BEGIN:VCALENDAR
VERSION:2.0
PRODID:-//Communities In Schools of Northeast Washington - ECPv6.15.15//NONSGML v1.0//EN
CALSCALE:GREGORIAN
METHOD:PUBLISH
X-WR-CALNAME:Communities In Schools of Northeast Washington
X-ORIGINAL-URL:https://cisnew.ciswa.org
X-WR-CALDESC:Events for Communities In Schools of Northeast Washington
REFRESH-INTERVAL;VALUE=DURATION:PT1H
X-Robots-Tag:noindex
X-PUBLISHED-TTL:PT1H
BEGIN:VTIMEZONE
TZID:America/Los_Angeles
BEGIN:DAYLIGHT
TZOFFSETFROM:-0800
TZOFFSETTO:-0700
TZNAME:PDT
DTSTART:20230312T100000
END:DAYLIGHT
BEGIN:STANDARD
TZOFFSETFROM:-0700
TZOFFSETTO:-0800
TZNAME:PST
DTSTART:20231105T090000
END:STANDARD
BEGIN:DAYLIGHT
TZOFFSETFROM:-0800
TZOFFSETTO:-0700
TZNAME:PDT
DTSTART:20240310T100000
END:DAYLIGHT
BEGIN:STANDARD
TZOFFSETFROM:-0700
TZOFFSETTO:-0800
TZNAME:PST
DTSTART:20241103T090000
END:STANDARD
BEGIN:DAYLIGHT
TZOFFSETFROM:-0800
TZOFFSETTO:-0700
TZNAME:PDT
DTSTART:20250309T100000
END:DAYLIGHT
BEGIN:STANDARD
TZOFFSETFROM:-0700
TZOFFSETTO:-0800
TZNAME:PST
DTSTART:20251102T090000
END:STANDARD
END:VTIMEZONE
BEGIN:VEVENT
DTSTART;TZID=America/Los_Angeles:20240223T170000
DTEND;TZID=America/Los_Angeles:20240223T220000
DTSTAMP:20260421T023625
CREATED:20240118T001619Z
LAST-MODIFIED:20250630T171433Z
UID:3100-1708707600-1708725600@cisnew.ciswa.org
SUMMARY:The 6th Annual Blue Jean Ball
DESCRIPTION:The Blue Jean Ball is quickly becoming the most fun event to attend in Spokane that supports students for all of Spokane County. Come make a night of it at the Spokane Convention Center and enjoy the casual jean attire with your friends. We’ll have a little bit of country fun and a lot of caring. This is Our Annual Fundraiser which helps us build quality programming for students as well as providing basic needs to ensure that our students have what they need to be successful in school and in life! Come on down and raise your paddle to support our local youth\, they are the future of our community! \n\n\n\nPurchase your tickets or reserve your sponsorship now!
URL:https://cisnew.ciswa.org/event/join-us-for-our-6th-annual-blue-jean-ball-february-23rd-2024/
LOCATION:Spokane Convention Center Centennial Ballroom\, 334 W Spokane Falls Blvd\, Spokane\, Washington\, 99201\, United States
END:VEVENT
END:VCALENDAR